BEGIN:VCALENDAR
VERSION:2.0
PRODID:-//wp-events-plugin.com//7.2.3.1//EN
TZID:Europe/Berlin
X-WR-TIMEZONE:Europe/Berlin
BEGIN:VEVENT
UID:20@kraeuter-wanderung.at
DTSTART;TZID=Europe/Vienna:20230923T100000
DTEND;TZID=Europe/Vienna:20230923T133000
DTSTAMP:20230831T203317Z
URL:https://kraeuter-wanderung.at/events/lama-tour-mit-kraeuterwanderung/
SUMMARY:LAMA-Tour mit Kräuterwanderung
DESCRIPTION:LAMA-Tour mit Kräuterwanderung\nHalbtägige Wanderung mit un
 seren freundlichen Lamas UND Kräuterwanderung mit allen Sinnen! Für
  wanderfreudige und wissensdurstige Kleine und Große in wunderschö
 ner Almen-Landschaft. Bachrauschen\, Waldkulisse und Almwiesen inklus
 ive. Spaß\, Erholung und Entspannung beim Wandern mit viel Informati
 onen vom Kräuter-Experten zur Pflanzenwelt auf der Alm. Danach erwartet
  die Teilnehmenden ein gschmackiger Kräutereintopf (optional).\n\n 	Wan
 derung mit unseren wandererfahrenen und sehr freundlichen Lamas\n 	Botanis
 che Führung mit dem Biologen Michael Flechl (https://kraeuter-wanderung.a
 t/) zur abwechslungsreichen Flora und Fauna an Bergbächen\, auf Almwiesen
  und in den Wäldern\n 	Touren mit Kindertragen möglich\n 	Schmackhafter 
 reichhaltiger Kräutereintopf aus regionalen Zutaten nach der Tour (option
 al)\n\nDiese halbtägige Tour startet mit einer ausführlichen Einschul
 ung in die Welt der Lamas und Alpakas bei den Gehegen. Die Teilnehmdenden
  lernen die Lamas kennen und sie leicht zu führen. Sie erfahren viel übe
 r diese interessanten Tiere\, den Umgang mit ihnen\, ihre Haltung\, die Wo
 llproduktion und die Region Hirschegg-Pack.\n\nDer Kräuter- und Pflanzen
 -Experte Michael Flechl (https://kraeuter-wanderung.at/) begleitet die Wa
 nderung und informiert umfassend über die Pflanzen vor Ort.\n\nAusgehend 
 von 1.000 Meter Seehöhe führt die Wanderung am Gebirgsbach entlang auf e
 inem leicht ansteigenden Weg durch die erholsamen Bergwälder und Wiesen.
  Unser Kräuter-Experte informiert begleitend zur Tour über Wissenswert
 es zu den lokalen Pflanzen\, deren Wirkungen und Anwendungsmöglichkeiten
  und beantwortet alle Fragen dazu.\n\nNach etwas 1\,5 Stunden genieß
 en die Teilnehmenden die herrliche Aussicht auf das Hirschegger Tal. Dan
 n führt der Weg auf dem Höhenweg mit schöner Aussicht auf das Hirsche
 gger Tal. Immer wieder gibt es Pausen für Mensch und Tier (Streicheln e
 rlaubt!).\n\nZurück beim Ausgangsort verabschieden sich die Gäste von de
 n Lamas und können unsere Woll-Produkte besichtigen. Anschließend wart
 et ein köstlicher Kräutereintopf aus regionalen Zutaten auf die Teilne
 hmenden. (Voranmeldung bei Lama-Touren erforderlich\, extra Bezahlung EUR
  8\,- vor Ort).\n\nMitfahrgelegenheiten von Graz werden von uns gerne or
 ganisiert (bitte Bedarfe bei der Anmeldung mitteilen).\n\nDas Wohl der Ti
 ere ist uns wichtig. Daher teilen wir unsere Tiere ihrer Konstitution und
  ihrem Charakter entsprechend ein.\nHunde können bei der Wanderung leide
 r nicht teilnehmen\, sind aber bei den Gehegen willkommen (während der Ei
 nschulung und nach der Rückkunft).\n\nDauer: cirka 3\,5 Stunden inkl. aus
 führliche Lama-Tour-Einschulung\, Wanderung mit den Lamas und botanische 
 Führung.\n\nTreffpunkt: 8584 Hirschegg 276\, Parken beim Spengerwirt (ww
 w.spengerwirt.at)\, 100 m weiter zu Fuß zum Gehegeeingang (links) vorgehe
 n.\n\nBitte mitnehmen: Leichte bis mittlere Kondition\, Wanderschuhe und 
 jahreszeitlich entsprechende Kleidung (1.000 m)\, Jause und Trinken für u
 nterwegs und natürlich viel gute Laune!\n\nHerbst-Termin:\n\nSamstag\, 2
 3. September 2023\, 10:00\nAnmeldung erforderlich:  +43 680 212 57 69 o
 der lamatouren@gmail.com\n\nPreis:  € 65\,- pro Person Kinder 8-14 Ja
 hre EUR 32\,-\, darunter frei\nMindestteilnehmende: 8 Personen\nWir freuen
  uns auf EUCH!\n\nUnser Kräuterexperte Michael Flechl und\n\n\nDr. Caro
 lina Gigleitner                             Christ
 ian Orso\n\nLama-Wanderführerin                     
            Lama-Wanderführer\nCoachin (Lebens- und Sozialberate
 rin)     Zertif. Mediator und NLP-Coach\n\nLAMA-Touren auf der ALM –
  8584 Hirschegg Pack 276
ATTACH;FMTTYPE=image/jpeg:https://kraeuter-wanderung.at/wp-content/uploads
 /2019/05/20180526_180909.jpg
CATEGORIES:Wanderung / Führung
END:VEVENT
BEGIN:VTIMEZONE
TZID:Europe/Vienna
X-LIC-LOCATION:Europe/Vienna
BEGIN:DAYLIGHT
DTSTART:20230326T030000
TZOFFSETFROM:+0100
TZOFFSETTO:+0200
TZNAME:CEST
END:DAYLIGHT
END:VTIMEZONE
END:VCALENDAR