BEGIN:VCALENDAR
VERSION:2.0
PRODID:-//wp-events-plugin.com//7.2.3.1//EN
TZID:Europe/Berlin
X-WR-TIMEZONE:Europe/Berlin
BEGIN:VEVENT
UID:46@kraeuter-wanderung.at
DTSTART;TZID=Europe/Vienna:20241109T100000
DTEND;TZID=Europe/Vienna:20241109T131500
DTSTAMP:20240913T134059Z
URL:https://kraeuter-wanderung.at/events/kraeuterwanderung-florianiberg-un
 d-lienhof-2/
SUMMARY:Kräuterwanderung Florianiberg und Lienhof
DESCRIPTION:Kräuterwanderung auf den Florianiberg und Lienhof (mit anschli
 eßenden erfrischenden Getränken und Tees)\nTermin Sa 9.11.2024 um 10:00 
 Uhr\nDauer: ca. 3 Stunden incl. Ausklang mit Erfrischungen\nTreffpunkt: Bu
 shaltestelle Bad Strassgang (Linie 32\, stadtauswärts)\nTeilnahmebeitrag:
  45 EUR incl. Lienhof-Führung und kleinen Erfrischungen!\nDer TN-Beitag i
 st vor der Veranstaltung per Konto zu überweisen!\nDiese Veranstaltung is
 t in Kooperation mit dem Lienhof!\nInhalt: Essbare Wildkräuter\, Heilpfla
 nzen\, Wildgemüse in Theorie und Praxis\, Pflanzenbestimmen\, Inhaltsstof
 fe und Verwendung.\nVerbindliche Anmeldung und weitere Infos: michael.flec
 hl@yahoo.com oder 06644984258
ATTACH;FMTTYPE=image/jpeg:https://kraeuter-wanderung.at/wp-content/uploads
 /2019/05/Bisamberg-Wien-Titelbild.jpg
CATEGORIES:Wanderung / Führung
END:VEVENT
BEGIN:VTIMEZONE
TZID:Europe/Vienna
X-LIC-LOCATION:Europe/Vienna
BEGIN:STANDARD
DTSTART:20241027T020000
TZOFFSETFROM:+0200
TZOFFSETTO:+0100
TZNAME:CET
END:STANDARD
END:VTIMEZONE
END:VCALENDAR